BEGIN:VCALENDAR
VERSION:2.0
PRODID:-//The Press Club of Cleveland - ECPv6.13.2.1//NONSGML v1.0//EN
CALSCALE:GREGORIAN
METHOD:PUBLISH
X-ORIGINAL-URL:https://pressclubcle.org
X-WR-CALDESC:Events for The Press Club of Cleveland
REFRESH-INTERVAL;VALUE=DURATION:PT1H
X-Robots-Tag:noindex
X-PUBLISHED-TTL:PT1H
BEGIN:VTIMEZONE
TZID:America/Detroit
BEGIN:DAYLIGHT
TZOFFSETFROM:-0500
TZOFFSETTO:-0400
TZNAME:EDT
DTSTART:20250309T070000
END:DAYLIGHT
BEGIN:STANDARD
TZOFFSETFROM:-0400
TZOFFSETTO:-0500
TZNAME:EST
DTSTART:20251102T060000
END:STANDARD
END:VTIMEZONE
BEGIN:VEVENT
DTSTART;TZID=America/Detroit:20250423T173000
DTEND;TZID=America/Detroit:20250423T200000
DTSTAMP:20260424T090256
CREATED:20250407T134533Z
LAST-MODIFIED:20250407T134535Z
UID:1064-1745429400-1745438400@pressclubcle.org
SUMMARY:Trivia night
DESCRIPTION:BACK BY POPULAR DEMAND: Put all that random journalistic knowledge to good use at the Press Club of Cleveland Trivia Night! \n\n\n\nGrab four of your smartest friends from the newsroom\, office or neighborhood and sign up as a team. Don’t have a team of four? Sign up individually and we’ll match you up with other players. \n\n\n\nPrizes will be given to the 1st and 2nd place teams. \n\n\n\nThis year\, we’re holding it at a new location: Edwin’s Too (the former Nighttown) with Guest Trivia Master Professional Annie Nickoloff\, Senior Editor at Cleveland Magazine. \n\n\n\nYour ticket includes 1 drink ticket and snacks. You can order heartier eats from the menu.
URL:https://pressclubcle.org/event/trivia-night/
LOCATION:Edwin’s Too\, 12383 Cedar Road\, Cleveland Heights\, Ohio\, 44106\, United States
ORGANIZER;CN="Press Club of Cleveland":MAILTO:pressclubcle@gmail.com
END:VEVENT
END:VCALENDAR