BEGIN:VCALENDAR
VERSION:2.0
PRODID:-//The Press Club of Cleveland - ECPv6.13.2.1//NONSGML v1.0//EN
CALSCALE:GREGORIAN
METHOD:PUBLISH
X-WR-CALNAME:The Press Club of Cleveland
X-ORIGINAL-URL:https://pressclubcle.org
X-WR-CALDESC:Events for The Press Club of Cleveland
REFRESH-INTERVAL;VALUE=DURATION:PT1H
X-Robots-Tag:noindex
X-PUBLISHED-TTL:PT1H
BEGIN:VTIMEZONE
TZID:America/Detroit
BEGIN:DAYLIGHT
TZOFFSETFROM:-0500
TZOFFSETTO:-0400
TZNAME:EDT
DTSTART:20240310T070000
END:DAYLIGHT
BEGIN:STANDARD
TZOFFSETFROM:-0400
TZOFFSETTO:-0500
TZNAME:EST
DTSTART:20241103T060000
END:STANDARD
END:VTIMEZONE
BEGIN:VEVENT
DTSTART;TZID=America/Detroit:20241114T113000
DTEND;TZID=America/Detroit:20241114T133000
DTSTAMP:20260425T063950
CREATED:20240924T184824Z
LAST-MODIFIED:20241025T150512Z
UID:893-1731583800-1731591000@pressclubcle.org
SUMMARY:Journalism Hall of Fame Induction & Chuck Heaton Award Luncheon
DESCRIPTION:The Press Club of Cleveland’s Journalism Hall of Fame recognizes journalists who have made journalism matter in Cleveland and who have helped true journalism survive. \n\n\n\n\n\n\n\n\n\n\n\n\n\n\n\n\n\nJoin us in honoring this year’s inductees (l to r): Afi Scruggs\, an award-winning writer\, journalist and author who worked for The Plain Dealer and many other publications; Karl Turner\, news director at Spectrum 1 News\, former front page editor for The Plain Dealer and former director of content at cleveland.com; and Lou Maglio\, Fox 8 anchor/reporter and former producer/anchor/reporter at NEWS 5 (WEWS-TV). \n\n\n\n\nCLick Here for Tickets\n\n\n\n\n\n\n\n\n\n\n\nThe Chuck Heaton Award will be presented posthumously to John Betchkal\, who died in July 2024. He was 88. A longtime member of the Press Club’s board of directors\, Betchkal conceived the award in 2008 to honor his friend\, the late Chuck Heaton\, a longtime sports writer for The Plain Dealer.  \n\n\n\nThe Heaton Award is presented annually to the print\, radio\, online or television journalist who best exemplifies the sensitivity and humility that\, along with his journalism talent\, were traits exhibited by Heaton during his career at The Plain Dealer. \n\n\n\n\n\n\n\n\n\n\n\n\n\n\n\n\n\n\nCLICK HERE FOR TICKETS
URL:https://pressclubcle.org/event/hall-of-fame-induction-chuck-heaton-award-luncheon/
LOCATION:Cibreo Privato\, 1501 E 14th St.\, Cleveland\, OH 44115\, OH\, United States
ATTACH;FMTTYPE=image/jpeg:https://pressclubcle.org/wp-content/uploads/2024/09/venue_cibreo.jpg
ORGANIZER;CN="Press Club of Cleveland":MAILTO:pressclubcle@gmail.com
END:VEVENT
BEGIN:VEVENT
DTSTART;TZID=America/Detroit:20241029T113000
DTEND;TZID=America/Detroit:20241029T133000
DTSTAMP:20260425T063950
CREATED:20241017T185534Z
LAST-MODIFIED:20241017T194530Z
UID:939-1730201400-1730208600@pressclubcle.org
SUMMARY:Meet the Media luncheon
DESCRIPTION:Moderator \n\n\n\n\n\n\n\nTiffany Tarpley\, anchor of Good Morning Cleveland on News 5 \n\n\n\nPanelists: \n\n\n\n\n\n\n\nKevin Adelstein\, president of the Cleveland Jewish Publication Co. and publisher and CEO of the Cleveland Jewish News\, Columbus Jewish News and Akron Jewish News. \n\n\n\n\n\n\n\nAndy Fishman\, vice president/news director\, WJW-TV/Fox 8 \n\n\n\n\n\n\n\nJodie Heisner\, news director\, News 5 Cleveland \n\n\n\n\n\n\n\nMike McIntyre\, executive director\, Ideastream Public Media \n\n\n\n\n\n\n\nMark Puente\, staff writer/lead investigative reporter for The Marshall Project – Cleveland
URL:https://pressclubcle.org/event/meet-the-media-luncheon/
LOCATION:Windows on the River\, 2000 Sycamore St.\, Cleveland\, Ohio\, 44113\, United States
CATEGORIES:Panel Discussion
ATTACH;FMTTYPE=image/jpeg:https://pressclubcle.org/wp-content/uploads/2024/10/3edf26e1-8aa6-4aac-83c1-54774e297f1b.jpg
END:VEVENT
END:VCALENDAR